BEGIN:VCALENDAR
VERSION:2.0
PRODID:-//Vistoso Cyclists - ECPv6.15.16//NONSGML v1.0//EN
CALSCALE:GREGORIAN
METHOD:PUBLISH
X-WR-CALNAME:Vistoso Cyclists
X-ORIGINAL-URL:https://vistosocyclists.org
X-WR-CALDESC:Events for Vistoso Cyclists
REFRESH-INTERVAL;VALUE=DURATION:PT1H
X-Robots-Tag:noindex
X-PUBLISHED-TTL:PT1H
BEGIN:VTIMEZONE
TZID:America/Phoenix
BEGIN:STANDARD
TZOFFSETFROM:-0700
TZOFFSETTO:-0700
TZNAME:MST
DTSTART:20250101T000000
END:STANDARD
END:VTIMEZONE
BEGIN:VEVENT
DTSTART;TZID=America/Phoenix:20260420T080000
DTEND;TZID=America/Phoenix:20260420T080000
DTSTAMP:20260420T023654
CREATED:20260217T214020Z
LAST-MODIFIED:20260321T174738Z
UID:8119-1776672000-1776672000@vistosocyclists.org
SUMMARY:Coffee X-Change
DESCRIPTION:
URL:https://vistosocyclists.org/event/coffee-c-change/
CATEGORIES:Orange Ride
END:VEVENT
BEGIN:VEVENT
DTSTART;TZID=America/Phoenix:20260420T080100
DTEND;TZID=America/Phoenix:20260420T080100
DTSTAMP:20260420T023654
CREATED:20260308T225855Z
LAST-MODIFIED:20260308T225856Z
UID:8255-1776672060-1776672060@vistosocyclists.org
SUMMARY:Long Bread--42 Miles
DESCRIPTION:
URL:https://vistosocyclists.org/event/long-bread-42-miles-7/
CATEGORIES:Blue Ride
END:VEVENT
BEGIN:VEVENT
DTSTART;TZID=America/Phoenix:20260420T080300
DTEND;TZID=America/Phoenix:20260420T080300
DTSTAMP:20260420T023654
CREATED:20260331T031943Z
LAST-MODIFIED:20260331T032303Z
UID:8551-1776672180-1776672180@vistosocyclists.org
SUMMARY:Bruegger's 30
DESCRIPTION:
URL:https://vistosocyclists.org/event/brueggers-30-5/
CATEGORIES:Green Ride
END:VEVENT
END:VCALENDAR