BEGIN:VCALENDAR
VERSION:2.0
PRODID:-//Vistoso Cyclists - ECPv6.15.16//NONSGML v1.0//EN
CALSCALE:GREGORIAN
METHOD:PUBLISH
X-WR-CALNAME:Vistoso Cyclists
X-ORIGINAL-URL:https://vistosocyclists.org
X-WR-CALDESC:Events for Vistoso Cyclists
REFRESH-INTERVAL;VALUE=DURATION:PT1H
X-Robots-Tag:noindex
X-PUBLISHED-TTL:PT1H
BEGIN:VTIMEZONE
TZID:America/Phoenix
BEGIN:STANDARD
TZOFFSETFROM:-0700
TZOFFSETTO:-0700
TZNAME:MST
DTSTART:20250101T000000
END:STANDARD
END:VTIMEZONE
BEGIN:VEVENT
DTSTART;TZID=America/Phoenix:20260422T080000
DTEND;TZID=America/Phoenix:20260422T080000
DTSTAMP:20260422T013948
CREATED:20260217T213842Z
LAST-MODIFIED:20260402T192131Z
UID:8117-1776844800-1776844800@vistosocyclists.org
SUMMARY:Circle K
DESCRIPTION:
URL:https://vistosocyclists.org/event/saddlebrooke-ranch-after-biosphere/
CATEGORIES:Orange Ride
END:VEVENT
BEGIN:VEVENT
DTSTART;TZID=America/Phoenix:20260422T080100
DTEND;TZID=America/Phoenix:20260422T080100
DTSTAMP:20260422T013948
CREATED:20260308T225959Z
LAST-MODIFIED:20260308T230000Z
UID:8257-1776844860-1776844860@vistosocyclists.org
SUMMARY:Black Rock--52 Miles
DESCRIPTION:
URL:https://vistosocyclists.org/event/black-rock-52-miles/
CATEGORIES:Blue Ride
END:VEVENT
BEGIN:VEVENT
DTSTART;TZID=America/Phoenix:20260422T080300
DTEND;TZID=America/Phoenix:20260422T080300
DTSTAMP:20260422T013948
CREATED:20260331T031331Z
LAST-MODIFIED:20260331T032252Z
UID:8537-1776844980-1776844980@vistosocyclists.org
SUMMARY:Village Bake House 28
DESCRIPTION:
URL:https://vistosocyclists.org/event/village-bake-house-28-13/
CATEGORIES:Green Ride
END:VEVENT
END:VCALENDAR