BEGIN:VCALENDAR
VERSION:2.0
PRODID:-//Vistoso Cyclists - ECPv6.15.16//NONSGML v1.0//EN
CALSCALE:GREGORIAN
METHOD:PUBLISH
X-ORIGINAL-URL:https://vistosocyclists.org
X-WR-CALDESC:Events for Vistoso Cyclists
REFRESH-INTERVAL;VALUE=DURATION:PT1H
X-Robots-Tag:noindex
X-PUBLISHED-TTL:PT1H
BEGIN:VTIMEZONE
TZID:America/Phoenix
BEGIN:STANDARD
TZOFFSETFROM:-0700
TZOFFSETTO:-0700
TZNAME:MST
DTSTART:20230101T000000
END:STANDARD
END:VTIMEZONE
BEGIN:VEVENT
DTSTART;TZID=America/Phoenix:20240226T083000
DTEND;TZID=America/Phoenix:20240226T083000
DTSTAMP:20260421T225835
CREATED:20240221T223021Z
LAST-MODIFIED:20240221T223022Z
UID:3831-1708936200-1708936200@vistosocyclists.org
SUMMARY:Mt. Lemmon to Windy Point
DESCRIPTION:Arrive at Le Buzz before 8:30\, Rolling at 8:30. Supposed to be more than warm enough. Windy Point will be the goal. No side trip to North Wentworth this time.  Ride at your own speed. Take breaks as needed. Link up and photo op at Windy Point. Windbreaker for the ride down?
URL:https://vistosocyclists.org/event/mt-lemmon-to-windy-point/
CATEGORIES:Red Ride
END:VEVENT
END:VCALENDAR