BEGIN:VCALENDAR
VERSION:2.0
PRODID:-//Vistoso Cyclists - ECPv6.15.16//NONSGML v1.0//EN
CALSCALE:GREGORIAN
METHOD:PUBLISH
X-ORIGINAL-URL:https://vistosocyclists.org
X-WR-CALDESC:Events for Vistoso Cyclists
REFRESH-INTERVAL;VALUE=DURATION:PT1H
X-Robots-Tag:noindex
X-PUBLISHED-TTL:PT1H
BEGIN:VTIMEZONE
TZID:America/Phoenix
BEGIN:STANDARD
TZOFFSETFROM:-0700
TZOFFSETTO:-0700
TZNAME:MST
DTSTART:20240101T000000
END:STANDARD
END:VTIMEZONE
BEGIN:VEVENT
DTSTART;TZID=America/Phoenix:20250416T075000
DTEND;TZID=America/Phoenix:20250416T075000
DTSTAMP:20260421T010350
CREATED:20250405T100755Z
LAST-MODIFIED:20250405T100756Z
UID:6589-1744789800-1744789800@vistosocyclists.org
SUMMARY:Kitt Peak at 0800
DESCRIPTION:Park in lot at the base\, riding at 8:00. 12 mile climb with about 7% average grade. Great views south into Mexico.  Bring your water and your legs. As Jens Voight would say “Shut Up Legs!”
URL:https://vistosocyclists.org/event/kitt-peak-at-0800/
CATEGORIES:Red Ride
END:VEVENT
END:VCALENDAR