BEGIN:VCALENDAR
VERSION:2.0
PRODID:-//Vistoso Cyclists - ECPv6.15.16//NONSGML v1.0//EN
CALSCALE:GREGORIAN
METHOD:PUBLISH
X-ORIGINAL-URL:https://vistosocyclists.org
X-WR-CALDESC:Events for Vistoso Cyclists
REFRESH-INTERVAL;VALUE=DURATION:PT1H
X-Robots-Tag:noindex
X-PUBLISHED-TTL:PT1H
BEGIN:VTIMEZONE
TZID:America/Phoenix
BEGIN:STANDARD
TZOFFSETFROM:-0700
TZOFFSETTO:-0700
TZNAME:MST
DTSTART:20230101T000000
END:STANDARD
END:VTIMEZONE
BEGIN:VEVENT
DTSTART;TZID=America/Phoenix:20240403T074500
DTEND;TZID=America/Phoenix:20240403T170000
DTSTAMP:20260421T212553
CREATED:20240329T022654Z
LAST-MODIFIED:20240329T022656Z
UID:4234-1712130300-1712163600@vistosocyclists.org
SUMMARY:Madera Canyon
DESCRIPTION: Drive to Sahuarita. Arrive at McDonald’s at 7:45\, rolling at 8:00. It is approximately 45 miles round trip with approximately 3\,000 feet of gain. It is a good road all the way and mostly wide bike lanes. As we get onto the Madera Canyon road the pitch slowly starts to pick up. By the time we reach the parking lot turn around the pitch will be well into double digits.
URL:https://vistosocyclists.org/event/madera-canyon/
CATEGORIES:Red Ride
END:VEVENT
END:VCALENDAR