BEGIN:VCALENDAR
VERSION:2.0
PRODID:-//Vistoso Cyclists - ECPv6.15.16//NONSGML v1.0//EN
CALSCALE:GREGORIAN
METHOD:PUBLISH
X-WR-CALNAME:Vistoso Cyclists
X-ORIGINAL-URL:https://vistosocyclists.org
X-WR-CALDESC:Events for Vistoso Cyclists
REFRESH-INTERVAL;VALUE=DURATION:PT1H
X-Robots-Tag:noindex
X-PUBLISHED-TTL:PT1H
BEGIN:VTIMEZONE
TZID:America/Phoenix
BEGIN:STANDARD
TZOFFSETFROM:-0700
TZOFFSETTO:-0700
TZNAME:MST
DTSTART:20250101T000000
END:STANDARD
END:VTIMEZONE
BEGIN:VEVENT
DTSTART;TZID=America/Phoenix:20260405T080000
DTEND;TZID=America/Phoenix:20260405T080000
DTSTAMP:20260422T033823
CREATED:20260125T015119Z
LAST-MODIFIED:20260125T015401Z
UID:7978-1775376000-1775376000@vistosocyclists.org
SUMMARY:Colossal Cave>Pistol Hill>Saguaro NP
DESCRIPTION:Start @ Le Buzz (Tanque Verde)
URL:https://vistosocyclists.org/event/colossal-cavepistol-hillsaguaro-np/
CATEGORIES:Red Ride
END:VEVENT
END:VCALENDAR